BEGIN:VCALENDAR
VERSION:2.0
PRODID:SchoolNow
CALSCALE:GREGORIAN
BEGIN:VEVENT
UID:a3ba7a6e-eb3a-11f0-96f7-0e143c533c43
DTSTAMP:20260106T200233Z
SUMMARY:Report Cards Issued
URL;VALUE=URI:https://www.nbcsd.k12.ms.us/calendar/8831923/report-cards-iss
 ued
DTSTART;VALUE=DATE:20260113
DTEND;VALUE=DATE:20260114
END:VEVENT
END:VCALENDAR
