BEGIN:VCALENDAR
VERSION:2.0
PRODID:SchoolNow
CALSCALE:GREGORIAN
BEGIN:VEVENT
UID:c4f71c64-eb3a-11f0-ad85-0e0ed75c457f
DTSTAMP:20260106T200329Z
SUMMARY:Martin Luther King Jr. Holiday
URL;VALUE=URI:https://www.nbcsd.k12.ms.us/calendar/8831924/martin-luther-ki
 ng-jr-holiday
DTSTART;VALUE=DATE:20260119
DTEND;VALUE=DATE:20260120
END:VEVENT
END:VCALENDAR
