BEGIN:VCALENDAR
VERSION:2.0
PRODID:SchoolNow
CALSCALE:GREGORIAN
BEGIN:VEVENT
UID:3bb5e38c-0754-11f1-93ee-0a58a9feac02
DTSTAMP:20260211T141618Z
SUMMARY:63% School Day
URL;VALUE=URI:https://www.nbcsd.k12.ms.us/calendar/8853138/63-school-day
DTSTART;VALUE=DATE:20260211
DTEND;VALUE=DATE:20260212
END:VEVENT
END:VCALENDAR
