BEGIN:VCALENDAR
VERSION:2.0
PRODID:SchoolNow
CALSCALE:GREGORIAN
BEGIN:VEVENT
UID:6431731c-0754-11f1-baf9-0a58a9feac02
DTSTAMP:20260211T141726Z
SUMMARY:Progress Reports Released
URL;VALUE=URI:https://www.nbcsd.k12.ms.us/calendar/8853139/progress-reports
 -released
DTSTART;VALUE=DATE:20260211
DTEND;VALUE=DATE:20260212
END:VEVENT
END:VCALENDAR
