BEGIN:VCALENDAR
VERSION:2.0
PRODID:SchoolNow
CALSCALE:GREGORIAN
BEGIN:VEVENT
UID:8b303bc4-0754-11f1-a405-0221fbe23d43
DTSTAMP:20260211T141831Z
SUMMARY:President's Day
URL;VALUE=URI:https://www.nbcsd.k12.ms.us/calendar/8853140/presidents-day
DTSTART;VALUE=DATE:20260216
DTEND;VALUE=DATE:20260217
END:VEVENT
END:VCALENDAR
