BEGIN:VCALENDAR
VERSION:2.0
PRODID:SchoolNow
CALSCALE:GREGORIAN
BEGIN:VEVENT
UID:575f4c7c-078b-11f1-8066-0221fbe23d43
DTSTAMP:20260213T140011Z
SUMMARY:Regional Reading Fair at Delta State
URL;VALUE=URI:https://www.nbcsd.k12.ms.us/calendar/8853350/regional-reading
 -fair-at-delta-state
DTSTART:20260211T205200Z
DTEND:20260214T055000Z
END:VEVENT
END:VCALENDAR
