BEGIN:VCALENDAR
VERSION:2.0
PRODID:SchoolNow
CALSCALE:GREGORIAN
BEGIN:VEVENT
UID:d470f594-078b-11f1-ac78-0e7efa62387f
DTSTAMP:20260211T205657Z
SUMMARY:I.T. Montgomery PTA Meeting at 5:30 P.M.
URL;VALUE=URI:https://www.nbcsd.k12.ms.us/calendar/8853410/i-t-montgomery-p
 ta-meeting-at-5-30-p-m
DTSTART:20260226T140000Z
DTEND:20260227T035200Z
END:VEVENT
END:VCALENDAR
