BEGIN:VCALENDAR
VERSION:2.0
PRODID:SchoolNow
CALSCALE:GREGORIAN
BEGIN:VEVENT
UID:774a1368-078c-11f1-b9ab-029de128f86f
DTSTAMP:20260211T205902Z
SUMMARY:I.T.Montgomery Black History Program
URL;VALUE=URI:https://www.nbcsd.k12.ms.us/calendar/8853411/i-t-montgomerys-
 black-history-program
DTSTART:20260227T140000Z
DTEND:20260227T220000Z
END:VEVENT
END:VCALENDAR
