BEGIN:VCALENDAR
VERSION:2.0
PRODID:SchoolNow
CALSCALE:GREGORIAN
BEGIN:VEVENT
UID:b48c937c-078c-11f1-a123-0affe7921747
DTSTAMP:20260211T210033Z
SUMMARY:Casper E. Hall Academic Awards Program
URL;VALUE=URI:https://www.nbcsd.k12.ms.us/calendar/8853412/casper-e-hall
DTSTART:20260212T150000Z
DTEND:20260212T220000Z
END:VEVENT
END:VCALENDAR
