BEGIN:VCALENDAR
VERSION:2.0
PRODID:SchoolNow
CALSCALE:GREGORIAN
BEGIN:VEVENT
UID:3c4400aa-0d07-11f1-b4c3-0a58a9feac02
DTSTAMP:20260218T202015Z
SUMMARY:Jr. Beta Club Ceremony
URL;VALUE=URI:https://www.nbcsd.k12.ms.us/calendar/8859494/jr-beta-club-cer
 amony
DTSTART:20260219T233000Z
DTEND:20260220T033000Z
END:VEVENT
END:VCALENDAR
